BEGIN:VCALENDAR
VERSION:2.0
PRODID:-//wp-events-plugin.com//7.2.3.1//EN
TZID:Europe/Berlin
X-WR-TIMEZONE:Europe/Berlin
BEGIN:VEVENT
UID:7172@willkommen-in-loebtau.de
DTSTART;TZID=Europe/Berlin:20220423T090000
DTEND;TZID=Europe/Berlin:20220423T130000
DTSTAMP:20220311T145654Z
URL:https://www.willkommen-in-loebtau.de/termine/wandern-im-dresdner-umlan
 d-mit-mario/
SUMMARY:Wandern im Dresdner Umland mit Mario
DESCRIPTION:Wir starten 9:00 an der Endstelle und wandern gemeinsam durch d
 en Omsewitzer Grund über Pennrich durch den Zschonergrund. Dort gibts dan
 n ein kleines Picknick mit unseren selbst mitgebrachten Dingen.\nNach dem 
 Zschonergrund endet unsere Tour an einer DVB Haltestelle an der Meißner L
 andstrasse\, von wo aus alle bequem nach Hause kommen.\n\n[osm_map_v3 map_
 center="51.0544\,13.6848" zoom="14.0" width="95%" height="450" post_marker
 s="1" ]
ATTACH;FMTTYPE=image/jpeg:https://www.willkommen-in-loebtau.de/wp-content/
 uploads/2022/03/wandern.jpg
CATEGORIES:AG Begegnung,Verein "Willkommen in Löbtau"
LOCATION:Endhaltestelle Leutewitz\, Warthaer Str. 52\, Dresden\, 01157\, De
 utschland
X-APPLE-STRUCTURED-LOCATION;VALUE=URI;X-ADDRESS=Warthaer Str. 52\, Dresden\
 , 01157\, Deutschland;X-APPLE-RADIUS=100;X-TITLE=Endhaltestelle Leutewitz:
 geo:0,0
END:VEVENT
BEGIN:VTIMEZONE
TZID:Europe/Berlin
X-LIC-LOCATION:Europe/Berlin
BEGIN:DAYLIGHT
DTSTART:20220327T030000
TZOFFSETFROM:+0100
TZOFFSETTO:+0200
TZNAME:CEST
END:DAYLIGHT
END:VTIMEZONE
END:VCALENDAR