BEGIN:VCALENDAR
VERSION:2.0
PRODID:-//wp-events-plugin.com//7.2.3.1//EN
TZID:Europe/Berlin
X-WR-TIMEZONE:Europe/Berlin
BEGIN:VEVENT
UID:6829@willkommen-in-loebtau.de
DTSTART;TZID=Europe/Berlin:20210701T190000
DTEND;TZID=Europe/Berlin:20210701T213000
DTSTAMP:20210623T185453Z
URL:https://www.willkommen-in-loebtau.de/termine/treffen-im-park/
SUMMARY:Treffen im Park
DESCRIPTION:Unsere AG Begegnung kann wegen der stark gefallener Corona-Inzi
 denzen endlich wieder mal eine Veranstaltung anbieten. An der frischen Luf
 t ist es wieder recht sicher\, Zeit miteinander verbringen\, wenn man dabe
 i die Abstände einhält.\n\nWir wollen beim gemeinsamen Essen\, mit Getr
 änke und bei Spielen endlich mal wieder Zeit mit euch. Dies ist ein Angeb
 ot für alle interessierte Menschen aus Dresden oder gerne auch darüber h
 inaus. Menschen mit Migrationsgeschichte und die Nachbarschaft in Löbtau 
 und Umgebung sind ganz besonders eingeladen.\n\nBringt gerne Spiele wie Fr
 isbee\, Federball\, einen Volleyball oder Wikingerschach mit.\n\nWir freue
 n uns auf euch!\n\n\n\n&nbsp\;\n\n[osm_map_v3 map_center="51.0388\,13.7016
 " zoom="18.0" width="95%" height="450" post_markers="1" ]
ATTACH;FMTTYPE=image/jpeg:https://www.willkommen-in-loebtau.de/wp-content/
 uploads/2021/06/Treffen-im-Park-Juli-verschoben-2021.jpg
CATEGORIES:AG Begegnung
LOCATION:Bonhoefferpark\, Bonhoefferplatz\, Dresden\, Deutschland
GEO:51.038207;13.701773
X-APPLE-STRUCTURED-LOCATION;VALUE=URI;X-ADDRESS=Bonhoefferplatz\, Dresden\,
  Deutschland;X-APPLE-RADIUS=100;X-TITLE=Bonhoefferpark:geo:51.038207,13.70
 1773
END:VEVENT
BEGIN:VTIMEZONE
TZID:Europe/Berlin
X-LIC-LOCATION:Europe/Berlin
BEGIN:DAYLIGHT
DTSTART:20210328T030000
TZOFFSETFROM:+0100
TZOFFSETTO:+0200
TZNAME:CEST
END:DAYLIGHT
END:VTIMEZONE
END:VCALENDAR