BEGIN:VCALENDAR
VERSION:2.0
PRODID:-//wp-events-plugin.com//7.2.3.1//EN
TZID:Europe/Berlin
X-WR-TIMEZONE:Europe/Berlin
BEGIN:VEVENT
UID:5155@willkommen-in-loebtau.de
DTSTART;TZID=Europe/Berlin:20190824T121500
DTEND;TZID=Europe/Berlin:20190824T131500
DTSTAMP:20190820T173016Z
URL:https://www.willkommen-in-loebtau.de/termine/treffen-fuer-die-unteilba
 r-demo/
SUMMARY:Treffen für die #Unteilbar-Demo
DESCRIPTION:Wir von Willkommen in Löbtau und alle\, die mit uns zusammen z
 ur Unteilbar-Demo gehen wollen\, treffen uns um 12:15 auf dem Wettiner Pla
 tz an der Pforte zum Kulturkraftwerk. Von dort gehen wir dann pünktlich u
 m 12:30 Uhr weiter zum Demoauftakt auf dem Altmarkt. Wir freuen uns über 
 jeden\, der sich uns anschließt oder auch an anderer Stelle zum Erfolg de
 r Demonstration beiträgt!\n\n\n\nHier geht's zum Mobi-Spot\n\n#unteilbar.
  Für eine offene und freie Gesellschaft. Solidarität statt Ausgrenzung! 
 Kommt zur bundesweiten Großdemo am 24. August 2019 | 13 Uhr | Dresden | A
 ltmarkt | unteilbar.org\n\n&nbsp\;
LOCATION:Pforte zum Kulturkraftwerk am Wettiner Platz\, Wettiner Platz\, Dr
 esden\, Deutschland
X-APPLE-STRUCTURED-LOCATION;VALUE=URI;X-ADDRESS=Wettiner Platz\, Dresden\, 
 Deutschland;X-APPLE-RADIUS=100;X-TITLE=Pforte zum Kulturkraftwerk am Wetti
 ner Platz:geo:0,0
END:VEVENT
BEGIN:VTIMEZONE
TZID:Europe/Berlin
X-LIC-LOCATION:Europe/Berlin
BEGIN:DAYLIGHT
DTSTART:20190331T030000
TZOFFSETFROM:+0100
TZOFFSETTO:+0200
TZNAME:CEST
END:DAYLIGHT
END:VTIMEZONE
END:VCALENDAR