BEGIN:VCALENDAR
VERSION:2.0
PRODID:-//wp-events-plugin.com//7.2.3.1//EN
TZID:Europe/Berlin
X-WR-TIMEZONE:Europe/Berlin
BEGIN:VEVENT
UID:6677@willkommen-in-loebtau.de
DTSTART;TZID=Europe/Berlin:20200908T183000
DTEND;TZID=Europe/Berlin:20200908T210000
DTSTAMP:20200925T151917Z
URL:https://www.willkommen-in-loebtau.de/termine/stammtisch-ausbildung-und
 -arbeit-fuer-gefluechtete-8-9-2020/
SUMMARY:Stammtisch „Ausbildung und Arbeit für Geflüchtete“ 8.9.2020
DESCRIPTION:Die AG Ausbildung und Arbeit veranstaltet monatlich einen Stam
 mtisch zum Thema „Ausbildung und Arbeit für Geflüchtete“.\n\n\nOrt: 
 Institut für Kern- und Teilchenphysik\, Andreas Schubert Bau\, Raum E19\,
  Zellescher Weg 19\nZeit: 18:30 - 21:00\n\nAgenda:\n\n\n 	Kurze Begrüßun
 gsrunde \n 	Anstoßen auf von Claus Reisch gestiftetes Preisgeld\n\n 	Anl
 iegen der Pat/inn/en und Scouts / Zwischenerfolge\n\n 	Gäste: Jugendberat
 ungscenter Frau Gey\, Frau Prox\n\n\n 	Vorstellung der Arbeit des JBC\n 	V
 orstellung einzelner Maßnahmen\n\n\n 	Der Bewerbungsprozess – Training 
 für Migranten*innen / Explorer\n\n 	kurzer Überblick von Eva\n 	–&gt\;
  nach Datenabfrage brauchen wir ein Training\n\n\n 	Stand unseres Projekt
 s "Berufstandem"\n\n\n 	Stand der Tandems\, Bedarfe an Scouts\n 	IQ Schulu
 ngen zur interkulturellen Kompetenz\n\n\n 	Nachbereitung Mitgliederversamm
 lung \n 	Stand des Umfrage-Updates Datenbank (Eva)\n\n\n 	\n\n        
        9. Nächste wichtige Termine:\n\nAlle wichtigen Termine für Jo
 b-und Ausbildungssuche findet Ihr hier\n\n 	\n\n 	10.9.20 Vorbereitung auf
  Jobmesse Dresden: Büro Eisenberger Str. 9\n 	17.9.20 Jobmesse Dresden ( 
 Anmeldungen bei Eva )\n 	21.9.20 Einstufungs-Test Intensiv-Sprachkurs für
  Studieninteressierte an der TUD\n 	26.9.20 Open-Air Ausbildungsmesse\, Po
 stplatz\n 	7.10.20 Praktikums- und Lehrstellenbörse Prohlis / Leuben\n 	1
 0.10.20 DREWAG/ENSO Ausbildungstag\n 	10.10.20 DVB Ausbildungstag\n 	7.11.
 20 Johannstädter Praktikums- und Lehrstellenbörse\n 	12.11.20 Green Day 
 für grüne Berufe (Anmeldung bis 9.10.)\n 	14.11.20 Onkel SAX Ausbildungs
 messe\n 	Barcamp der Scouts und Explorer (November? Veronika)\n 	Nächster
  Stammtisch:\n\n 	6. Oktober\, 18:30\n\n\n\n\n 	\n\nDie AG unterstützt in
  Form von persönlichen Patenschaften oder in sog. Berufstandems die Gefl
 üchteten bei der Jobsuche und Weiterbildung\, hilft bei Behördengängen\
 , der Vermittlung von Kontakten und dem Ausfüllen von Formularen.\n\nZiel
  des Stammtisches ist der regelmäßige Austausch innerhalb der AG und mit
  hauptamtlich Tätigen sowie die Planung der Aktivitäten.\n\nDie AG freut
  sich über weitere MitstreiterInnen\, insbesondere für die Patenschaften
 \, und lädt alle Interessierten sehr herzlich zum Stammtisch ein.\n\nDer 
 direkte Kontakt zur AG ist über das Kontaktformular auf der AG-Seite mög
 lich.
CATEGORIES:AG Ausbildung und Arbeit,Verein "Willkommen in Löbtau"
LOCATION:TU-Dresden\, Institut für Kern- und Teilchenphysik\, Raum E19\, Z
 ellescher Weg 19\, Dresden\, Deutschland
GEO:51.029503;13.740528
X-APPLE-STRUCTURED-LOCATION;VALUE=URI;X-ADDRESS=Zellescher Weg 19\, Dresden
 \, Deutschland;X-APPLE-RADIUS=100;X-TITLE=TU-Dresden\, Institut für Kern-
  und Teilchenphysik\, Raum E19:geo:51.029503,13.740528
END:VEVENT
BEGIN:VTIMEZONE
TZID:Europe/Berlin
X-LIC-LOCATION:Europe/Berlin
BEGIN:DAYLIGHT
DTSTART:20200329T030000
TZOFFSETFROM:+0100
TZOFFSETTO:+0200
TZNAME:CEST
END:DAYLIGHT
END:VTIMEZONE
END:VCALENDAR