BEGIN:VCALENDAR
VERSION:2.0
PRODID:-//wp-events-plugin.com//7.2.3.1//EN
TZID:Europe/Berlin
X-WR-TIMEZONE:Europe/Berlin
BEGIN:VEVENT
UID:6822@willkommen-in-loebtau.de
DTSTART;TZID=Europe/Berlin:20210106T183000
DTEND;TZID=Europe/Berlin:20210106T203000
DTSTAMP:20210210T215723Z
URL:https://www.willkommen-in-loebtau.de/termine/stammtisch-ausbildung-und
 -arbeit-fuer-gefluechtete-6-01-2021/
SUMMARY:Stammtisch „Ausbildung und Arbeit für Geflüchtete“ 6.01.2021
DESCRIPTION:Die AG Ausbildung und Arbeit veranstaltet monatlich einen Stam
 mtisch zum Thema „Ausbildung und Arbeit für Geflüchtete“.\n\n\nOrt: 
 Wegen Corona-Einschränkungen im Jitsi-Videoraum\nhttps://meet.wiloebtau.d
 e/ArbeitAusbildung \n(Teilnahme ohne App in Browser möglich)\nZeit: 18:30
  - 20:30\n\nAgenda:\n\n\n 	Kurze Begrüßungsrunde \n\n 	Gast: Dorit Back
 asch\, BARMER Altstadt Dresden\n\n 	Angebote zur gesundheitlichen und psyc
 hologischen Begleitung.\nFolien: angebote_der_barmer\n\n\n 	Schulung durch
  RESQUE continued (Katja Lehmann\, Julia Mahmoudi) zu Duldungsarten und Mi
 twirkungspflicht Passbeschaffung und Arbeitsverbot nach §60b\n\n 	Wiki: L
 ink zu unserer Materialsammlung\n\n 	Vortragsfolien: RESQUEcont_Duldungen\
 n\n\n 	Anliegen &amp\; Zwischenerfolge der Pat/inn/en und Scouts\n 	Stand 
 unseres Projekts "Berufstandem"\n\n 	Pläne zu IQ Schulung zur interkultur
 ellen Kompetenz (IQ über VHS bei Barmer)\n 	10.12. Vorstellung bei intap 
 (Unternehmenskontakte für Akademiker:innen\n 	Nachhilfetreff (Neele)\n\n\
 n 	Wichtige Veranstaltungen (Rückblick und Vorbereitung)\n\n 	14.11.-31.1
 2.20 Online: Onkel SAX Ausbildungsmesse\n 	6.3.21 Ausbildungs- und Karrier
 etag am BSZ für Elektrotechnik\n 	18.3.-21.3. Schau-Rein! - Woche in Unte
 rnehmen\n 	26.3-28.3.21 Karriere-Start Messe  -&gt\; Vorbereitung ??\n 	2
 2.4.21 : 21. Jobmesse (DDV Stadion)\n 	Alle wichtigen Termine für Job-und
  Ausbildungssuche findet Ihr hier\n\n\n 	Nächste Termine:\n\n 	Nächster 
 Stammtisch: Di 9. Februar\n\n\n\n\n 	\n 	\n\nDie AG unterstützt in Form v
 on persönlichen Patenschaften oder in sog. Berufstandems die Geflüchtete
 n bei der Jobsuche und Weiterbildung\, hilft bei Behördengängen\, der Ve
 rmittlung von Kontakten und dem Ausfüllen von Formularen.\n\nZiel des Sta
 mmtisches ist der regelmäßige Austausch innerhalb der AG und mit hauptam
 tlich Tätigen sowie die Planung der Aktivitäten.\n\nDie AG freut sich ü
 ber weitere MitstreiterInnen\, insbesondere für die Patenschaften\, und l
 ädt alle Interessierten sehr herzlich zum Stammtisch ein.\n\nDer direkte 
 Kontakt zur AG ist über das Kontaktformular auf der AG-Seite möglich.
CATEGORIES:AG Ausbildung und Arbeit,Verein "Willkommen in Löbtau"
END:VEVENT
BEGIN:VTIMEZONE
TZID:Europe/Berlin
X-LIC-LOCATION:Europe/Berlin
BEGIN:STANDARD
DTSTART:20201025T020000
TZOFFSETFROM:+0200
TZOFFSETTO:+0100
TZNAME:CET
END:STANDARD
END:VTIMEZONE
END:VCALENDAR