BEGIN:VCALENDAR
VERSION:2.0
PRODID:-//wp-events-plugin.com//7.2.3.1//EN
TZID:Europe/Berlin
X-WR-TIMEZONE:Europe/Berlin
BEGIN:VEVENT
UID:6826@willkommen-in-loebtau.de
DTSTART;TZID=Europe/Berlin:20210525T183000
DTEND;TZID=Europe/Berlin:20210525T203000
DTSTAMP:20210507T132401Z
URL:https://www.willkommen-in-loebtau.de/termine/stammtisch-ausbildung-und
 -arbeit-fuer-gefluechtete-25-05-2021/
SUMMARY:Stammtisch „Ausbildung und Arbeit für Geflüchtete“ 25.05.2021
DESCRIPTION:Die AG Ausbildung und Arbeit veranstaltet monatlich einen Stam
 mtisch zum Thema „Ausbildung und Arbeit für Geflüchtete“.\n\n\nOrt: 
 Wegen Corona-Einschränkungen dieses Mal wieder online und ausnahmsweise i
 m Zoom-Videoraum: https://tu-dresden.zoom.us/j/87561621440?pwd=YmxuUE9nVlB
 kZzN6dXNBeVd5T1p4dz09\n\nMeeting-ID und Kenncode auf Anfrage oder in der E
 inladung.\n\nHinweis: Die Teilnahme ist auch über Zoom ohne App im Browse
 r möglich. Dafür müsst ihr einfach alle Installations-Pop-Ups ablehnen 
 und warten bis die Zeile „Treten Sie mit dem Browser bei“ erscheint. D
 ann noch den Nutzungsbedingungen zustimmen und es kann losgehen.\n\nZeit: 
 18:30 - ca. 20:30\n\nAgenda:\n\n\n 	Kurze Begrüßungsrunde\n\n 	Gast: Cle
 mens Hirschwald (Ehrenamtskoordinator der Stadt Dresden):  Informationen 
 + Tipps für ehrenamtlich Aktive in der Flüchtlingsarbeit\n\n 	Anliegen &
 amp\; Zwischenerfolge der Pat/inn/en und Scouts\n\n 	Stand unseres Projekt
 s "Berufstandem"\n 	Wichtige Veranstaltungen (Rückblick und Vorbereitung)
 \n\n 	20.05.21: Digitale Informationsveranstaltung der KAUSA-Servicestelle
  für Unternehmen zu den „Bildungssystemen der Herkunftsländer“\; wei
 tere Informationen hier\n 	05.06.21: Digitaler Uni-Tag an der TU DRESDEN\n
  	VERSCHOBEN: 21.-26.06.21 - Schau-Rein! - Woche in Unternehmen\n 	VERSCHO
 BEN: 02.-04.07.21 - Karriere-Start+ 2021 - Durchstarten im Sommer\n 	VERSC
 HOBEN: 16.09.21 - 21. Jobmesse (DDV Stadion)\n 	Alle wichtigen Termine fü
 r Job-und Ausbildungssuche findet Ihr hier\n\n\n 	Nächste Termine:\n\n 	N
 ächster Stammtisch:?\n\n\n\n\n 	\n\nDie AG unterstützt in Form von pers
 önlichen Patenschaften oder in sog. Berufstandems die Geflüchteten bei d
 er Jobsuche und Weiterbildung\, hilft bei Behördengängen\, der Vermittlu
 ng von Kontakten und dem Ausfüllen von Formularen.\n\nZiel des Stammtisch
 es ist der regelmäßige Austausch innerhalb der AG und mit hauptamtlich T
 ätigen sowie die Planung der Aktivitäten.\n\nDie AG freut sich über wei
 tere MitstreiterInnen\, insbesondere für die Patenschaften\, und lädt al
 le Interessierten sehr herzlich zum Stammtisch ein.\n\nDer direkte Kontakt
  zur AG ist über das Kontaktformular auf der AG-Seite möglich.
CATEGORIES:AG Ausbildung und Arbeit,Verein "Willkommen in Löbtau"
END:VEVENT
BEGIN:VTIMEZONE
TZID:Europe/Berlin
X-LIC-LOCATION:Europe/Berlin
BEGIN:DAYLIGHT
DTSTART:20210328T030000
TZOFFSETFROM:+0100
TZOFFSETTO:+0200
TZNAME:CEST
END:DAYLIGHT
END:VTIMEZONE
END:VCALENDAR