BEGIN:VCALENDAR
VERSION:2.0
PRODID:-//wp-events-plugin.com//7.2.3.1//EN
TZID:Europe/Berlin
X-WR-TIMEZONE:Europe/Berlin
BEGIN:VEVENT
UID:6828@willkommen-in-loebtau.de
DTSTART;TZID=Europe/Berlin:20210623T183000
DTEND;TZID=Europe/Berlin:20210623T203000
DTSTAMP:20210616T134958Z
URL:https://www.willkommen-in-loebtau.de/termine/stammtisch-ausbildung-und
 -arbeit-fuer-gefluechtete-23-06-2021/
SUMMARY:Stammtisch „Ausbildung und Arbeit für Geflüchtete“ 23.06.2021
DESCRIPTION:Die AG Ausbildung und Arbeit veranstaltet monatlich einen Stam
 mtisch zum Thema „Ausbildung und Arbeit für Geflüchtete“.\n\n\nOrt: 
 Wir treffen uns wie gehabt online in unserem Jitsi-Videoraum: https://meet
 .wiloebtau.de/ArbeitAusbildung (Teilnahme ohne App im Browser möglich). \
 n\nZeit: 18:30 - ca. 20:30\n\nAgenda:\n\n\n 	Kurze Begrüßungsrunde\n\n 	
 Anliegen &amp\; Zwischenerfolge der Pat/inn/en und Scouts\n\n 	Stand unser
 es Projekts "Berufstandem"\n 	Wichtige Veranstaltungen (Rückblick und Vor
 bereitung)\n\n 	VERSCHOBEN: 21.-26.06.21 - Schau-Rein! - Woche in Unterneh
 men\n 	VERSCHOBEN: 02.-04.07.21 - Karriere-Start+ 2021 - Durchstarten im S
 ommer\n 	VERSCHOBEN: 16.09.21 - 21. Jobmesse (DDV Stadion)\n 	Alle wichtig
 en Termine für Job-und Ausbildungssuche findet Ihr hier\n\n\n 	Nächste T
 ermine:\n\n 	Nächster Stammtisch: ?\n\n\n\n\n 	\n\nDie AG unterstützt in
  Form von persönlichen Patenschaften oder in sog. Berufstandems die Gefl
 üchteten bei der Jobsuche und Weiterbildung\, hilft bei Behördengängen\
 , der Vermittlung von Kontakten und dem Ausfüllen von Formularen.\n\nZiel
  des Stammtisches ist der regelmäßige Austausch innerhalb der AG und mit
  hauptamtlich Tätigen sowie die Planung der Aktivitäten.\n\nDie AG freut
  sich über weitere MitstreiterInnen\, insbesondere für die Patenschaften
 \, und lädt alle Interessierten sehr herzlich zum Stammtisch ein.\n\nDer 
 direkte Kontakt zur AG ist über das Kontaktformular auf der AG-Seite mög
 lich.
CATEGORIES:AG Ausbildung und Arbeit,Verein "Willkommen in Löbtau"
END:VEVENT
BEGIN:VTIMEZONE
TZID:Europe/Berlin
X-LIC-LOCATION:Europe/Berlin
BEGIN:DAYLIGHT
DTSTART:20210328T030000
TZOFFSETFROM:+0100
TZOFFSETTO:+0200
TZNAME:CEST
END:DAYLIGHT
END:VTIMEZONE
END:VCALENDAR