BEGIN:VCALENDAR
VERSION:2.0
PRODID:-//wp-events-plugin.com//7.2.3.1//EN
TZID:Europe/Berlin
X-WR-TIMEZONE:Europe/Berlin
BEGIN:VEVENT
UID:6825@willkommen-in-loebtau.de
DTSTART;TZID=Europe/Berlin:20210421T183000
DTEND;TZID=Europe/Berlin:20210421T203000
DTSTAMP:20210419T123738Z
URL:https://www.willkommen-in-loebtau.de/termine/stammtisch-ausbildung-und
 -arbeit-fuer-gefluechtete-21-04-2021/
SUMMARY:Stammtisch „Ausbildung und Arbeit für Geflüchtete“ 21.04.2021
DESCRIPTION:Die AG Ausbildung und Arbeit veranstaltet monatlich einen Stam
 mtisch zum Thema „Ausbildung und Arbeit für Geflüchtete“.\n\n\nOrt: 
 Wegen Corona-Einschränkungen im Jitsi-Videoraum\nhttps://meet.wiloebtau.d
 e/ArbeitAusbildung \n(Teilnahme ohne App in Browser möglich)\nZeit: 18:30
  - ca. 20:30\n\nAgenda:\n\n\n 	Kurze Begrüßungsrunde\n\n 	Gast: Kamal Ki
 wan (Masterstudent an der TU Dresden): Vortrag über die Möglichkeiten zu
 m Dualstudium für Migrant:innen (mit Fokus auf die Berufsakademie Sachsen
 )\n\n 	Anliegen &amp\; Zwischenerfolge der Pat/inn/en und Scouts\n\n 	Stan
 d unseres Projekts "Berufstandem"\n 	Wichtige Veranstaltungen (Rückblick 
 und Vorbereitung)\n\n 	VERSCHOBEN: 16.09.21 - 21. Jobmesse (DDV Stadion)\n
  	VERSCHOBEN: 21.-26.06.21 - Schau-Rein! - Woche in Unternehmen\n 	VERSCHO
 BEN: 02.-04.07.21 - Karriere-Start+ 2021 - Durchstarten im Sommer\n 	Alle 
 wichtigen Termine für Job-und Ausbildungssuche findet Ihr hier\n\n\n 	Nä
 chste Termine:\n\n 	Nächster Stammtisch: 25.05.2021\n\n 	Gast: Clemens Hi
 rschwald (Koordinator Ehrenamt im Bereich Asyl)\n\n\n\n\n\n\n 	\n\nDie AG 
 unterstützt in Form von persönlichen Patenschaften oder in sog. Berufsta
 ndems die Geflüchteten bei der Jobsuche und Weiterbildung\, hilft bei Beh
 ördengängen\, der Vermittlung von Kontakten und dem Ausfüllen von Formu
 laren.\n\nZiel des Stammtisches ist der regelmäßige Austausch innerhalb 
 der AG und mit hauptamtlich Tätigen sowie die Planung der Aktivitäten.\n
 \nDie AG freut sich über weitere MitstreiterInnen\, insbesondere für die
  Patenschaften\, und lädt alle Interessierten sehr herzlich zum Stammtisc
 h ein.\n\nDer direkte Kontakt zur AG ist über das Kontaktformular auf der
  AG-Seite möglich.
CATEGORIES:AG Ausbildung und Arbeit,Verein "Willkommen in Löbtau"
END:VEVENT
BEGIN:VTIMEZONE
TZID:Europe/Berlin
X-LIC-LOCATION:Europe/Berlin
BEGIN:DAYLIGHT
DTSTART:20210328T030000
TZOFFSETFROM:+0100
TZOFFSETTO:+0200
TZNAME:CEST
END:DAYLIGHT
END:VTIMEZONE
END:VCALENDAR