BEGIN:VCALENDAR
VERSION:2.0
PRODID:-//wp-events-plugin.com//7.2.3.1//EN
TZID:Europe/Berlin
X-WR-TIMEZONE:Europe/Berlin
BEGIN:VEVENT
UID:5135@willkommen-in-loebtau.de
DTSTART;TZID=Europe/Berlin:20190417T183000
DTEND;TZID=Europe/Berlin:20190417T210000
DTSTAMP:20190417T115639Z
URL:https://www.willkommen-in-loebtau.de/termine/stammtisch-ausbildung-und
 -arbeit-fuer-gefluechtete-17-4-2019-2/
SUMMARY:Stammtisch „Ausbildung und Arbeit für Geflüchtete“ 17.4.2019
DESCRIPTION:Die AG Ausbildung und Arbeit veranstaltet monatlich einen Stam
 mtisch zum Thema „Ausbildung und Arbeit für Geflüchtete“.\n\n\nOrt: 
 Institut für Kern- und Teilchenphysik\, Andreas Schubert Bau\, Raum E19\,
  Zellescher Weg 19 (s.o.). Stammtisch: 18:30 - 21:00\n\nAgenda:\n\n\n 	Kur
 ze Begrüßungsrunde\n 	Anliegen der Pat/inn/en\n 	Unsere (Zwischen-)erfol
 ge\n 	Kurz-Berichte vergangener Veranstaltungen und Schnittstellen mit and
 eren\n\n 	Status Berufliches Mentoring (Marlis) - Integration neu denken\,
   Singa/Robert Bosch Bewerbung und Kompetenzen Paten Wil\, \n 	Zusammen
 fassung-Bürgerwerkstatt-25.pdf(Marlis)\n 	Pressetermin mit der Fraktion d
 ie Grünen 1.4.19 (Micha)\n 	Protokoll Vernetzungstreffen_TU Dresden (Mich
 a/Marlis)\n 	Kerstin:\n\n 	Fördermittelbörse Johannstadt + übersicht-ke
 rstin-fördermittel.pdf\n 	 Asylinitiativenkonferenz\n 	Open Transfer Cam
 p Berlin\n 	Ehrenamtsseminare vhs\n\n\n 	28.3.: Film "Bleibeperspektive - 
 eine machtvolle Praxis"\n\n\n 	Organisation der AG (alle)\n\n 	MV Sachberi
 cht AG A und A\n 	Neuer Bereich im Wiki über Selbstständigkeit\n 	Anwerb
 ung von Pat/inn/en:\n\n 	TU Medien\n 	Artikel Senfkorn\n 	Sprechchor "Das 
 blaue Wunder" und Flyerverteilung vor dem Theater.\n\n\n 	Paten/innen gesu
 cht!\n\n\n 	Nächste wichtige Termine:\n\n 	Terminkalender-AG-Ausbildung-u
 nd-Arbeit-2019-für-Geflüchtete Stand 27.2.19\n 	Nächster Stammtisch: 15
 .5.19. Hauptgäste: Sima und Vincenz von Singa\n 	NIMS Workshop: Wer könn
 te gehen? Anmeldung unter: https://eveeno.com/SAB-NIMS-150519\n 	Schulung
 en Asylrecht Teil 1 Mai/ Teil 2 Herbst (Angela M.)\n 	Mitgliederversammlun
 g 6.5.19\n 	Information Fachkräftezuwanderungsgesetz 8.5.19\n 	Konzert Vi
 ertelton 10.5.19\, 18 Uhr\n 	Dresden isst bunt 5.6.19\n 	Sommerfest Gesamt
 verein 20.6.19\n 	Ehrenamtsbörse Stadt DD 22.6.19 - doodle folgt\n 	Get t
 ogether AG Ausbildung und Arbeit Waldspielplatz Albertpark 23.6.19\n\n\n\n
 Die AG unterstützt in Form von persönlichen Patenschaften die Geflüchte
 ten bei der Jobsuche und Weiterbildung\, hilft bei Behördengängen\, der 
 Vermittlung von Kontakten und dem Ausfüllen von Formularen.\n\nZiel des S
 tammtisches ist der regelmäßige Austausch innerhalb der AG und mit haupt
 amtlich Tätigen sowie die Planung der Aktivitäten.\n\nDie AG freut sich 
 über weitere MitstreiterInnen\, insbesondere für die Patenschaften\, und
  lädt alle Interessierten sehr herzlich zum Stammtisch ein.\n\nDer direkt
 e Kontakt zur AG ist über das Kontaktformular auf der AG-Seite möglich.
CATEGORIES:AG Ausbildung und Arbeit,Verein "Willkommen in Löbtau"
LOCATION:TU-Dresden\, Institut für Kern- und Teilchenphysik\, Raum E19\, Z
 ellescher Weg 19\, Dresden\, Deutschland
GEO:51.029503;13.740528
X-APPLE-STRUCTURED-LOCATION;VALUE=URI;X-ADDRESS=Zellescher Weg 19\, Dresden
 \, Deutschland;X-APPLE-RADIUS=100;X-TITLE=TU-Dresden\, Institut für Kern-
  und Teilchenphysik\, Raum E19:geo:51.029503,13.740528
END:VEVENT
BEGIN:VTIMEZONE
TZID:Europe/Berlin
X-LIC-LOCATION:Europe/Berlin
BEGIN:DAYLIGHT
DTSTART:20190331T030000
TZOFFSETFROM:+0100
TZOFFSETTO:+0200
TZNAME:CEST
END:DAYLIGHT
END:VTIMEZONE
END:VCALENDAR