BEGIN:VCALENDAR
VERSION:2.0
PRODID:-//wp-events-plugin.com//7.2.3.1//EN
TZID:Europe/Berlin
X-WR-TIMEZONE:Europe/Berlin
BEGIN:VEVENT
UID:6971@willkommen-in-loebtau.de
DTSTART;TZID=Europe/Berlin:20211103T180000
DTEND;TZID=Europe/Berlin:20211103T200000
DTSTAMP:20211109T153358Z
URL:https://www.willkommen-in-loebtau.de/termine/sprachwerkstatt-deutsch-c
 oronakonform-3-2021-11-03/
SUMMARY:Sprachwerkstatt Deutsch - coronakonform
DESCRIPTION:Die Sprachgruppe von „Willkommen in Löbtau“ trifft sich vo
 n nun an wieder im Keller der Adventgemeinde. Wir bitten alle Teilnehmer*i
 nnen sich für jede Sprachwerkstatt über unser Kontaktformular anzumelden
 . Außerdem müssen aus rechtlichen Gründen darauf bestehen\, dass alle T
 eilnehmer*innen und Unterstützer*innen\, geimpft oder genesen sind. Wer d
 as nicht\, ist braucht einen tagesaktuellen Test. Für die Veranstaltung e
 xistiert ein Hygienekonzept\, das regelmäßig an die jeweils gültige Fas
 sung der Hygieneverordnungen angepasst wird. Die Veranstaltungsleitung inf
 ormiert jeweils über die Sicherheitsvorkehrungen und Regeln. Wir bitten u
 m Beachtung.\n\nIn der Sprachwerkstatt lernen Menschen mit Flucht- und Mig
 rationsgeschichte\, Austauschstudent*innen und alle anderen Interessierten
  gemeinsam mit ehrenamtlichen Helfer*innen Deutsch. Eine nähere Beschreib
 ung findet ihr auf der Seite der AG Sprache. Dort findet ihr auch eine gen
 aue Wegbeschreibung falls ihr zum ersten mal dabei seid denn der Zugang zu
  den Räumen ist nicht so ganz leicht zu finden.\n\n\n\n&nbsp\;\n\nDie Tei
 lnahme ist natürlich kostenfrei. Unterstützung durch interessierte Ehren
 amtler*innen ist jederzeit herzlich willkommen.\nWegbeschreibung\n
ATTACH;FMTTYPE=image/jpeg:https://www.willkommen-in-loebtau.de/wp-content/
 uploads/2019/09/Werbungsbild-für-Sprachwerkstatt-2.png
CATEGORIES:AG Sprache,Veranstaltungen,Verein "Willkommen in Löbtau"
LOCATION:Adventgemeinde\, Poststraße 13\, Dresden\, 01159\, Deutschland
GEO:51.042252;13.70022
X-APPLE-STRUCTURED-LOCATION;VALUE=URI;X-ADDRESS=Poststraße 13\, Dresden\, 
 01159\, Deutschland;X-APPLE-RADIUS=100;X-TITLE=Adventgemeinde:geo:51.04225
 2,13.70022
END:VEVENT
BEGIN:VTIMEZONE
TZID:Europe/Berlin
X-LIC-LOCATION:Europe/Berlin
BEGIN:STANDARD
DTSTART:20211031T020000
TZOFFSETFROM:+0200
TZOFFSETTO:+0100
TZNAME:CET
END:STANDARD
END:VTIMEZONE
END:VCALENDAR