BEGIN:VCALENDAR
VERSION:2.0
PRODID:-//wp-events-plugin.com//7.2.3.1//EN
TZID:Europe/Berlin
X-WR-TIMEZONE:Europe/Berlin
BEGIN:VEVENT
UID:7782@willkommen-in-loebtau.de
DTSTART;TZID=Europe/Berlin:20231115T180000
DTEND;TZID=Europe/Berlin:20231115T200000
DTSTAMP:20231022T124356Z
URL:https://www.willkommen-in-loebtau.de/termine/sprachwerkstatt-9/
SUMMARY:Sprachwerkstatt
DESCRIPTION:
LOCATION:Keller der Poststraße 13\, Zugang über Kellertreppe links in der
  Einfahrt\, Poststraße 13\, 01159\, Deutschland
X-APPLE-STRUCTURED-LOCATION;VALUE=URI;X-ADDRESS=Poststraße 13\, 01159\, De
 utschland;X-APPLE-RADIUS=100;X-TITLE=Keller der Poststraße 13\, Zugang ü
 ber Kellertreppe links in der Einfahrt:geo:0,0
END:VEVENT
BEGIN:VTIMEZONE
TZID:Europe/Berlin
X-LIC-LOCATION:Europe/Berlin
BEGIN:STANDARD
DTSTART:20231029T020000
TZOFFSETFROM:+0200
TZOFFSETTO:+0100
TZNAME:CET
END:STANDARD
END:VTIMEZONE
END:VCALENDAR