BEGIN:VCALENDAR
VERSION:2.0
PRODID:-//wp-events-plugin.com//7.2.3.1//EN
TZID:Europe/Berlin
X-WR-TIMEZONE:Europe/Berlin
BEGIN:VEVENT
UID:7078@willkommen-in-loebtau.de
DTSTART;TZID=Europe/Berlin:20220324T150000
DTEND;TZID=Europe/Berlin:20220324T180000
DTSTAMP:20220322T214028Z
URL:https://www.willkommen-in-loebtau.de/termine/offene-naehwerkstatt-2022
 -03-24/
SUMMARY:offene Nähwerkstatt
DESCRIPTION:Die Nähwerkstatt von Willkommen in Löbtau lädt ein zum gemei
 nsamen reparieren und designen 
ATTACH;FMTTYPE=image/jpeg:https://www.willkommen-in-loebtau.de/wp-content/
 uploads/2021/11/IMG_20211001_164452.jpg
CATEGORIES:AG Nähen,Verein "Willkommen in Löbtau"
LOCATION:Begegnungsraum des 2Gut Unverpackt-Ladens\, Schillingstraße 9\, D
 resden\, Sachsen\, 01159\, Deutschland
X-APPLE-STRUCTURED-LOCATION;VALUE=URI;X-ADDRESS=Schillingstraße 9\, Dresde
 n\, Sachsen\, 01159\, Deutschland;X-APPLE-RADIUS=100;X-TITLE=Begegnungsrau
 m des 2Gut Unverpackt-Ladens:geo:0,0
END:VEVENT
BEGIN:VTIMEZONE
TZID:Europe/Berlin
X-LIC-LOCATION:Europe/Berlin
BEGIN:STANDARD
DTSTART:20211031T020000
TZOFFSETFROM:+0200
TZOFFSETTO:+0100
TZNAME:CET
END:STANDARD
END:VTIMEZONE
END:VCALENDAR