BEGIN:VCALENDAR
VERSION:2.0
PRODID:-//wp-events-plugin.com//7.2.3.1//EN
TZID:Europe/Berlin
X-WR-TIMEZONE:Europe/Berlin
BEGIN:VEVENT
UID:6980@willkommen-in-loebtau.de
DTSTART;TZID=Europe/Berlin:20211104T150000
DTEND;TZID=Europe/Berlin:20211104T180000
DTSTAMP:20211109T154029Z
URL:https://www.willkommen-in-loebtau.de/termine/naehwerkstatt-derzeit-ohn
 e-familientreff-2021-11-04/
SUMMARY:Nähwerkstatt (derzeit ohne Familientreff)
DESCRIPTION:Unsere Nähwerkstatt findet ab sofort DONNERSTAGS und im Begegn
 ungsraum des 2Gut Unverpackt-Ladens statt\n\nZur Zeit wird an den ersten w
 eihnachtlichen Dingen gearbeitet. Es besteht aber auch die Möglichkeit\, 
 Ideen mitzubringen und eigene kleine Projekte zu starten. Im Einzelfall k
 önnen auch mal Kleidungsreparaturen vorgenommen werden.\n\n&#x2757\;&#xfe
 0f\;Wegen Corona: Es gilt 3G! Bringt also bitte Impfnachweis\, Genesenenna
 chweis oder einen tagesaktuellen Test mit und zeigt euer Dokument am Einga
 ng bitte vor. Für die Kontaktnachverfolgung führen wir eine Anwesenheits
 liste. Habt bitte auch eine Maske mir dabei&#x2757\;&#xfe0f\;\n\nSolange d
 ie Corona-Inzidenzen so hoch sind\, kann der Familientreff leider nicht st
 attfinden.\nWir freuen uns auf viele neue und interessierte Gäste!\n\n
ATTACH;FMTTYPE=image/jpeg:https://www.willkommen-in-loebtau.de/wp-content/
 uploads/2021/09/Herzanhaenger.jpeg
CATEGORIES:AG Nähen,Veranstaltungen
LOCATION:Begegnungsraum des 2Gut Unverpackt-Ladens\, Schillingstraße 9\, D
 resden\, Sachsen\, 01159\, Deutschland
X-APPLE-STRUCTURED-LOCATION;VALUE=URI;X-ADDRESS=Schillingstraße 9\, Dresde
 n\, Sachsen\, 01159\, Deutschland;X-APPLE-RADIUS=100;X-TITLE=Begegnungsrau
 m des 2Gut Unverpackt-Ladens:geo:0,0
END:VEVENT
BEGIN:VTIMEZONE
TZID:Europe/Berlin
X-LIC-LOCATION:Europe/Berlin
BEGIN:STANDARD
DTSTART:20211031T020000
TZOFFSETFROM:+0200
TZOFFSETTO:+0100
TZNAME:CET
END:STANDARD
END:VTIMEZONE
END:VCALENDAR