BEGIN:VCALENDAR
VERSION:2.0
PRODID:-//wp-events-plugin.com//7.2.3.1//EN
TZID:Europe/Berlin
X-WR-TIMEZONE:Europe/Berlin
BEGIN:VEVENT
UID:7516@willkommen-in-loebtau.de
DTSTART;TZID=Europe/Berlin:20230223T180000
DTEND;TZID=Europe/Berlin:20230223T220000
DTSTAMP:20230221T043628Z
URL:https://www.willkommen-in-loebtau.de/termine/koch-und-begegnungsabend-
 3/
SUMMARY:Koch- und Begegnungsabend
DESCRIPTION:++++\n\nenglish version below\n\n++++\nAm Donnerstag\, den 23. 
 Februar 2023\, treffen wir uns wieder im Keller der Poststraße 13\, um ge
 meinsam zu kochen und zu essen. Wir freuen uns auf interessante Gespräche
 . Seid ihr dabei?\nWo: Poststraße 13\, im Keller\; Zugang über die Kelle
 rtreppe links in der Einfahrt\n\nWann: 23. Februar 2023\, ab 18 Uhr\n\n+++
 +\n\nWe're celebrating our cooking get-togethers in the basement of Postst
 raße 13 again.\n\nWhere: Poststraße 13\, basement\, entrance via the sta
 irs in the driveway left of the building\n\nWhen: Thursday\, 23th february
  2023\, from 6pm
ATTACH;FMTTYPE=image/jpeg:https://www.willkommen-in-loebtau.de/wp-content/
 uploads/2023/02/WhatsApp-Image-2023-02-18-at-18.59.07.jpeg
CATEGORIES:AG Begegnung,Veranstaltungen
LOCATION:Adventgemeinde\, Poststraße 13\, Dresden\, 01159\, Deutschland
GEO:51.042252;13.70022
X-APPLE-STRUCTURED-LOCATION;VALUE=URI;X-ADDRESS=Poststraße 13\, Dresden\, 
 01159\, Deutschland;X-APPLE-RADIUS=100;X-TITLE=Adventgemeinde:geo:51.04225
 2,13.70022
END:VEVENT
BEGIN:VTIMEZONE
TZID:Europe/Berlin
X-LIC-LOCATION:Europe/Berlin
BEGIN:STANDARD
DTSTART:20221030T020000
TZOFFSETFROM:+0200
TZOFFSETTO:+0100
TZNAME:CET
END:STANDARD
END:VTIMEZONE
END:VCALENDAR