BEGIN:VCALENDAR
VERSION:2.0
PRODID:-//wp-events-plugin.com//7.2.3.1//EN
TZID:Europe/Berlin
X-WR-TIMEZONE:Europe/Berlin
BEGIN:VEVENT
UID:6670@willkommen-in-loebtau.de
DTSTART;TZID=Europe/Berlin:20200716T183000
DTEND;TZID=Europe/Berlin:20200716T213000
DTSTAMP:20200716T154527Z
URL:https://www.willkommen-in-loebtau.de/termine/internationales-picknick-
 im-bonhoeffer-park/
SUMMARY:Internationales Picknick im Bonhoeffer Park
DESCRIPTION:Aufgrund des stärkeren Regens und der Nässe haben wir uns jet
 zt doch kurzfristig entschlossen\, die Veranstaltung für heute abzusagen.
  Wir werden das Picknick aber in der näheren Zukunft nachholen!\n\nUnser 
 internationaler Abend wird aus Sicherheitsgründen wegen Corona im Freien 
 stattfinden. Alle wichtigen Infos findet ihr auf der Abbildung zur Veranst
 altung.\n\n\n\nZur Facebook-Veranstaltung
ATTACH;FMTTYPE=image/jpeg:https://www.willkommen-in-loebtau.de/wp-content/
 uploads/2020/07/Begegnung-Juli-2020.jpg
CATEGORIES:AG Begegnung,Veranstaltungen
LOCATION:Bonhoeffer Park\, Dresden\, Bonhoefer Platz\, Dresden\, 01159\, De
 utschland
X-APPLE-STRUCTURED-LOCATION;VALUE=URI;X-ADDRESS=Bonhoefer Platz\, Dresden\,
  01159\, Deutschland;X-APPLE-RADIUS=100;X-TITLE=Bonhoeffer Park\, Dresden:
 geo:0,0
END:VEVENT
BEGIN:VTIMEZONE
TZID:Europe/Berlin
X-LIC-LOCATION:Europe/Berlin
BEGIN:DAYLIGHT
DTSTART:20200329T030000
TZOFFSETFROM:+0100
TZOFFSETTO:+0200
TZNAME:CEST
END:DAYLIGHT
END:VTIMEZONE
END:VCALENDAR