BEGIN:VCALENDAR
VERSION:2.0
PRODID:-//wp-events-plugin.com//7.2.3.1//EN
TZID:Europe/Berlin
X-WR-TIMEZONE:Europe/Berlin
BEGIN:VEVENT
UID:9283@willkommen-in-loebtau.de
DTSTART;TZID=Europe/Berlin:20260423T170000
DTEND;TZID=Europe/Berlin:20260423T180000
DTSTAMP:20260420T092926Z
URL:https://www.willkommen-in-loebtau.de/termine/gartenteam-treffen/
SUMMARY:Gartenteam Treffen
DESCRIPTION:[caption id="attachment_16177" align="alignnone" width="300"] K
 ürbis[/caption]
ATTACH;FMTTYPE=image/jpeg:https://www.willkommen-in-loebtau.de/wp-content/
 uploads/2023/06/GemeinschaftsgartenIcon.jpg
LOCATION:Emil-Ueberall-Straße 6\, in the backyard\, العنوان؟\, Emi
 l-Ueberall-Str. 6\, Dresden\, 01159\, Deutschland
GEO:51.0446332;13.697364900000025
X-APPLE-STRUCTURED-LOCATION;VALUE=URI;X-ADDRESS=Emil-Ueberall-Str. 6\, Dres
 den\, 01159\, Deutschland;X-APPLE-RADIUS=100;X-TITLE=Emil-Ueberall-Straße
  6\, in the backyard\, العنوان؟:geo:51.0446332,13.697364900000025
END:VEVENT
BEGIN:VTIMEZONE
TZID:Europe/Berlin
X-LIC-LOCATION:Europe/Berlin
BEGIN:DAYLIGHT
DTSTART:20260329T030000
TZOFFSETFROM:+0100
TZOFFSETTO:+0200
TZNAME:CEST
END:DAYLIGHT
END:VTIMEZONE
END:VCALENDAR