BEGIN:VCALENDAR
VERSION:2.0
PRODID:-//wp-events-plugin.com//7.2.3.1//EN
TZID:Europe/Berlin
X-WR-TIMEZONE:Europe/Berlin
BEGIN:VEVENT
UID:7775@willkommen-in-loebtau.de
DTSTART;TZID=Europe/Berlin:20230927T193000
DTEND;TZID=Europe/Berlin:20230927T210000
DTSTAMP:20230927T115527Z
URL:https://www.willkommen-in-loebtau.de/termine/filmabend-fernreise-dahei
 m/
SUMMARY:Filmabend 'Fernreise daheim'
DESCRIPTION:\n\nKommt zum Filmabend in den Stadtteilladen!\n\nEs wird eine 
 Buchlesung von der Autorin Brigitte Heidebrecht\, die von Ihrer Arbeit mit
  Geflüchteten schreibt\, gezeigt. Hoch spannend und unterhaltsam!\n\nAnsc
 hließend können wir uns gern über unsere Arbeit und Erlebnisse austausc
 hen.\n\n&nbsp\;\n[osm_map_v3 map_center="51.0437\,13.6970" zoom="18.0" wid
 th="95%" height="450" post_markers="1" ]
ATTACH;FMTTYPE=image/jpeg:https://www.willkommen-in-loebtau.de/wp-content/
 uploads/2023/09/Foto-Autorin-mit-Buch-scaled.jpg
LOCATION:Stadtteilladen "Löbtop"\, Gohliser Str. 1\, 01159 Dresden\, Deuts
 chland
X-APPLE-STRUCTURED-LOCATION;VALUE=URI;X-ADDRESS=Gohliser Str. 1\, 01159 Dre
 sden\, Deutschland;X-APPLE-RADIUS=100;X-TITLE=Stadtteilladen \"Löbtop\":g
 eo:0,0
END:VEVENT
BEGIN:VTIMEZONE
TZID:Europe/Berlin
X-LIC-LOCATION:Europe/Berlin
BEGIN:DAYLIGHT
DTSTART:20230326T030000
TZOFFSETFROM:+0100
TZOFFSETTO:+0200
TZNAME:CEST
END:DAYLIGHT
END:VTIMEZONE
END:VCALENDAR