BEGIN:VCALENDAR
VERSION:2.0
PRODID:-//wp-events-plugin.com//7.2.3.1//EN
TZID:Europe/Berlin
X-WR-TIMEZONE:Europe/Berlin
BEGIN:VEVENT
UID:5730@willkommen-in-loebtau.de
DTSTART;TZID=Europe/Berlin;VALUE=DATE:20201118
DTEND;TZID=Europe/Berlin;VALUE=DATE:20201119
DTSTAMP:20200118T161601Z
URL:https://www.willkommen-in-loebtau.de/termine/feiertag-keine-veranstalt
 ungen-7/
SUMMARY:Feiertag! Keine Veranstaltungen!
DESCRIPTION:
END:VEVENT
BEGIN:VTIMEZONE
TZID:Europe/Berlin
X-LIC-LOCATION:Europe/Berlin
BEGIN:STANDARD
DTSTART:20201025T020000
TZOFFSETFROM:+0200
TZOFFSETTO:+0100
TZNAME:CET
END:STANDARD
END:VTIMEZONE
END:VCALENDAR