BEGIN:VCALENDAR
VERSION:2.0
PRODID:-//wp-events-plugin.com//7.2.3.1//EN
TZID:Europe/Berlin
X-WR-TIMEZONE:Europe/Berlin
BEGIN:VEVENT
UID:8436@willkommen-in-loebtau.de
DTSTART;TZID=Europe/Berlin:20241031T170000
DTEND;TZID=Europe/Berlin:20241031T210000
DTSTAMP:20241028T162743Z
URL:https://www.willkommen-in-loebtau.de/termine/begegnungstreff-3/
SUMMARY:Begegnungstreff
DESCRIPTION:Diese Woche treffen wir uns zum Reden und gemeinsamen Essen.\n\
 nUnd: Wir testen ein Spiel für Leute\, die für den Integrationstest lern
 en. Macht mit!\n\n! Eingang über die KELLERTREPPE LINKS VOM HAUS\n\n----\
 n\nThis week we are meeting for a chat and some snacks.\n\nAnd: We are tes
 ting a game for those studying for the integration test! Interested? Join 
 us!\n\n! Entrance via the basement stairs on the left of the building.
ATTACH;FMTTYPE=image/jpeg:https://www.willkommen-in-loebtau.de/wp-content/
 uploads/2024/10/Begegnung-mit-Spiel-2.png
CATEGORIES:AG Begegnung,Veranstaltungen,Veranstaltungen mit
 WiL-Beteiligung
LOCATION:Adventgemeinde\, Poststraße 13\, Dresden\, 01159\, Deutschland
GEO:51.042252;13.70022
X-APPLE-STRUCTURED-LOCATION;VALUE=URI;X-ADDRESS=Poststraße 13\, Dresden\, 
 01159\, Deutschland;X-APPLE-RADIUS=100;X-TITLE=Adventgemeinde:geo:51.04225
 2,13.70022
END:VEVENT
BEGIN:VTIMEZONE
TZID:Europe/Berlin
X-LIC-LOCATION:Europe/Berlin
BEGIN:STANDARD
DTSTART:20241027T020000
TZOFFSETFROM:+0200
TZOFFSETTO:+0100
TZNAME:CET
END:STANDARD
END:VTIMEZONE
END:VCALENDAR