BEGIN:VCALENDAR
VERSION:2.0
PRODID:-//wp-events-plugin.com//7.2.3.1//EN
TZID:Europe/Berlin
X-WR-TIMEZONE:Europe/Berlin
BEGIN:VEVENT
UID:7653@willkommen-in-loebtau.de
DTSTART;TZID=Europe/Berlin:20230702T184500
DTEND;TZID=Europe/Berlin:20230702T204500
DTSTAMP:20230601T115951Z
URL:https://www.willkommen-in-loebtau.de/termine/ag-schwimmen-2-2023-07-02
 /
SUMMARY:AG Schwimmen
DESCRIPTION:Swim fitness-training for women\n\n++++\n\nFür die Teilnahme i
 st eine verbindliche Anmeldung unter eva.hesse[ät]willkommen-in-loebtau.d
 e nötig.\n\nTo get a spot please confirm your participation via eva.hesse
 [ät]willkommen-in-loebtau.de
ATTACH;FMTTYPE=image/jpeg:https://www.willkommen-in-loebtau.de/wp-content/
 uploads/2023/06/WhatsApp-Image-2023-06-01-at-09.22.02.jpeg
CATEGORIES:AG Schwimmen,Verein "Willkommen in Löbtau"
END:VEVENT
BEGIN:VTIMEZONE
TZID:Europe/Berlin
X-LIC-LOCATION:Europe/Berlin
BEGIN:DAYLIGHT
DTSTART:20230326T030000
TZOFFSETFROM:+0100
TZOFFSETTO:+0200
TZNAME:CEST
END:DAYLIGHT
END:VTIMEZONE
END:VCALENDAR